BEGIN:VCALENDAR
VERSION:2.0
PRODID:-//Departure - ECPv6.15.18//NONSGML v1.0//EN
CALSCALE:GREGORIAN
METHOD:PUBLISH
X-WR-CALNAME:Departure
X-ORIGINAL-URL:https://departureto.com
X-WR-CALDESC:Events for Departure
REFRESH-INTERVAL;VALUE=DURATION:PT1H
X-Robots-Tag:noindex
X-PUBLISHED-TTL:PT1H
BEGIN:VTIMEZONE
TZID:America/New_York
BEGIN:DAYLIGHT
TZOFFSETFROM:-0500
TZOFFSETTO:-0400
TZNAME:EDT
DTSTART:20250309T070000
END:DAYLIGHT
BEGIN:STANDARD
TZOFFSETFROM:-0400
TZOFFSETTO:-0500
TZNAME:EST
DTSTART:20251102T060000
END:STANDARD
BEGIN:DAYLIGHT
TZOFFSETFROM:-0500
TZOFFSETTO:-0400
TZNAME:EDT
DTSTART:20260308T070000
END:DAYLIGHT
BEGIN:STANDARD
TZOFFSETFROM:-0400
TZOFFSETTO:-0500
TZNAME:EST
DTSTART:20261101T060000
END:STANDARD
BEGIN:DAYLIGHT
TZOFFSETFROM:-0500
TZOFFSETTO:-0400
TZNAME:EDT
DTSTART:20270314T070000
END:DAYLIGHT
BEGIN:STANDARD
TZOFFSETFROM:-0400
TZOFFSETTO:-0500
TZNAME:EST
DTSTART:20271107T060000
END:STANDARD
END:VTIMEZONE
BEGIN:VEVENT
DTSTART;TZID=America/New_York:20260508T120000
DTEND;TZID=America/New_York:20260508T133000
DTSTAMP:20260420T045046
CREATED:20260407T183038Z
LAST-MODIFIED:20260416T040613Z
UID:10000087-1778241600-1778247000@departureto.com
SUMMARY:Composer Masterclass with Peter Peter
DESCRIPTION:Behind every great film or series is a score that shapes how we feel\, often before a single word is spoken. With standout work including Heated Rivalry\, Peter Peter has built a reputation for crafting music that deepens narrative and defines tone across screen-based storytelling. \nIn this masterclass\, moderated by SOCAN’s Mike Rocha\, Peter Peter breaks down the role of music in story\, exploring how composition can build tension\, heighten emotion\, and anchor a project’s identity. From first brief to final mix\, Peter offers a detailed look at the creative and technical process behind scoring for film and television. \nFor anyone interested in the intersection of music and screen\, this is an inside look at composing at a high level.
URL:https://departureto.com/event/composer-masterclass-with-peter-peter/
LOCATION:Jane Mallett Theatre (St. Lawrence Centre for the Arts)\, 27 Front St E\, Toronto\, Ontario\, M5E 1B4\, Canada
CATEGORIES:Conference,Departure,SOCAN Songwriters Series
ATTACH;FMTTYPE=image/jpeg:https://departureto.com/wp-content/uploads/2026/04/peter-peter-event.jpg
END:VEVENT
BEGIN:VEVENT
DTSTART;TZID=America/New_York:20260508T140000
DTEND;TZID=America/New_York:20260508T153000
DTSTAMP:20260420T045046
CREATED:20260407T183232Z
LAST-MODIFIED:20260415T155909Z
UID:10000088-1778248800-1778254200@departureto.com
SUMMARY:Pop's Next Wave: A Songwriters Circle
DESCRIPTION:Pop music moves fast but great songwriting is what makes it stick. Behind every hook\, chorus\, and viral moment is a writer shaping how the world hears and feels a song. \nIn this in-the-round session\, Alicia Creti\, Liam Benayon\, Rêve\, and Sophie Simmons come together to share their approach to writing music that connects at scale. Through live performance and open conversation\, they’ll unpack the creative process\, the pressure of commercial success\, and the realities of building a voice in a crowded global market.
URL:https://departureto.com/event/pops-next-wave-a-songwriters-circle/
LOCATION:Jane Mallett Theatre (St. Lawrence Centre for the Arts)\, 27 Front St E\, Toronto\, Ontario\, M5E 1B4\, Canada
CATEGORIES:Conference,Departure,SOCAN Songwriters Series
ATTACH;FMTTYPE=image/png:https://departureto.com/wp-content/uploads/2026/01/Departure-SEO.png
END:VEVENT
END:VCALENDAR